BEGIN:VCALENDAR
VERSION:2.0
PRODID:-//VRTO - Virtual Reality, Toronto - ECPv6.0.11//NONSGML v1.0//EN
CALSCALE:GREGORIAN
METHOD:PUBLISH
X-ORIGINAL-URL:https://virtualreality.to
X-WR-CALDESC:Events for VRTO - Virtual Reality, Toronto
REFRESH-INTERVAL;VALUE=DURATION:PT1H
X-Robots-Tag:noindex
X-PUBLISHED-TTL:PT1H
BEGIN:VTIMEZONE
TZID:America/Toronto
BEGIN:DAYLIGHT
TZOFFSETFROM:-0500
TZOFFSETTO:-0400
TZNAME:EDT
DTSTART:20180311T070000
END:DAYLIGHT
BEGIN:STANDARD
TZOFFSETFROM:-0400
TZOFFSETTO:-0500
TZNAME:EST
DTSTART:20181104T060000
END:STANDARD
END:VTIMEZONE
BEGIN:VEVENT
DTSTART;TZID=America/Toronto:20180221T090000
DTEND;TZID=America/Toronto:20180221T220000
DTSTAMP:20230325T114732
CREATED:20180219T225010Z
LAST-MODIFIED:20180219T225743Z
UID:935-1519203600-1519250400@virtualreality.to
SUMMARY:SIRT: Immersive Audio & VR/AR Event
DESCRIPTION:Sheridan Screen Industries Research and Training Centre (SIRT) presents: \nImmersive Audio & VR/AR – Bringing the audio community together\nIn collaboration with the Toronto Section of the Audio Engineering Society and the Society of Motion Picture & Television Engineers\, we are bringing together VR & Immersive Audio experts to share knowledge\, showcase technologies and engage with the audio industry. Our stage at Pinewood Toronto Studios will be transformed into a collaborative Immersive Audio showcase with the goal to accelerate the knowledge of all attendees. \nThis event is targeted at those seeking a deeper dive into the emerging ever-evolving world of spatial audio for VR. The purpose is to give participants a chance to get hands-on with the latest tech\, hear from industry leaders and network with local content creators and audio professionals. The intended participants include professionals from across audio societies and unions\, academic researchers\, and non-academic end-user organizations.
URL:https://virtualreality.to/event/sirt-immersive-audio-vr-ar-event/
LOCATION:SIRT @ Pinewood\, 225 Commissioners Street\, Stage 10\, Toronto\, ON\, M4M 0A1\, Canada
CATEGORIES:AR,Audio,Events,VR
END:VEVENT
END:VCALENDAR