BEGIN:VCALENDAR
VERSION:2.0
PRODID:-//VRTO - Virtual Reality, Toronto - ECPv6.0.11//NONSGML v1.0//EN
CALSCALE:GREGORIAN
METHOD:PUBLISH
X-WR-CALNAME:VRTO - Virtual Reality, Toronto
X-ORIGINAL-URL:https://virtualreality.to
X-WR-CALDESC:Events for VRTO - Virtual Reality, Toronto
REFRESH-INTERVAL;VALUE=DURATION:PT1H
X-Robots-Tag:noindex
X-PUBLISHED-TTL:PT1H
BEGIN:VTIMEZONE
TZID:America/Toronto
BEGIN:DAYLIGHT
TZOFFSETFROM:-0500
TZOFFSETTO:-0400
TZNAME:EDT
DTSTART:20170312T070000
END:DAYLIGHT
BEGIN:STANDARD
TZOFFSETFROM:-0400
TZOFFSETTO:-0500
TZNAME:EST
DTSTART:20171105T060000
END:STANDARD
END:VTIMEZONE
BEGIN:VEVENT
DTSTART;TZID=America/Toronto:20171114T190000
DTEND;TZID=America/Toronto:20171114T220000
DTSTAMP:20230325T121346
CREATED:20171108T222159Z
LAST-MODIFIED:20171108T231137Z
UID:880-1510686000-1510696800@virtualreality.to
SUMMARY:VRTO Meetup - Powerful Systems for VR Creation & Distribution
DESCRIPTION:This special event will feature a a presentation from Dr. Karan Sher Singh\, professor and lead of the Dynamic Graphics Project – an interdisciplinary research laboratory at the University of Toronto devoted to projects involving Computer Graphics\, Computer Vision\, and Human Computer Interaction. The presentation will focus on Vesta – a freely hosted\, open platform for rapidly deploying your own live Virtual Reality spaces to the internet. \nThis will be followed by a very special presentation\, adapted and updated from Robert Magee – Senior Product Marketing Manager\, SideFX. In this presentation\, Robert will show how you can create procedural assets in Houdini that can be loaded into Unreal Engine 4 using the Houdini Engine plug-in. \n \nAt the event we will also be giving instructions on how to receive an exclusive US$150 coupon for the Vuze camera\, thanks to our sponsors at HumanEyes. Thank you to the University of Toronto\, our host for this event.   \nThere are only 125 spots available\, and all guests must also register individually\, so don’t wait to claim your spot!
URL:https://virtualreality.to/event/vrto-meetup-powerful-systems-vr-creation-distribution/
LOCATION:Bahren Centre for Information Technology\, 40 St. George Street\, Toronto\, Ontario\, Canada
CATEGORIES:Events,VR
END:VEVENT
END:VCALENDAR