BEGIN:VCALENDAR
VERSION:2.0
PRODID:-//VRTO - Virtual Reality, Toronto - ECPv6.0.11//NONSGML v1.0//EN
CALSCALE:GREGORIAN
METHOD:PUBLISH
X-ORIGINAL-URL:https://virtualreality.to
X-WR-CALDESC:Events for VRTO - Virtual Reality, Toronto
REFRESH-INTERVAL;VALUE=DURATION:PT1H
X-Robots-Tag:noindex
X-PUBLISHED-TTL:PT1H
BEGIN:VTIMEZONE
TZID:America/Toronto
BEGIN:DAYLIGHT
TZOFFSETFROM:-0500
TZOFFSETTO:-0400
TZNAME:EDT
DTSTART:20180311T070000
END:DAYLIGHT
BEGIN:STANDARD
TZOFFSETFROM:-0400
TZOFFSETTO:-0500
TZNAME:EST
DTSTART:20181104T060000
END:STANDARD
END:VTIMEZONE
BEGIN:VEVENT
DTSTART;VALUE=DATE:20180307
DTEND;VALUE=DATE:20180309
DTSTAMP:20230325T213201
CREATED:20180219T232825Z
LAST-MODIFIED:20180219T232825Z
UID:941-1520380800-1520553599@virtualreality.to
SUMMARY:Dx3 2018
DESCRIPTION:Dx3\nCANADA’S IMMERSIVE DIGITAL MARKETING & RETAIL EVENT\nDx3 is Canada’s largest conference and trade show dedicated to digital marketing\, retail\, and advertising. Through engaging content and immersive experiences\, Dx3 connects the world’s top technology brands with Canada’s leading brands\, retailers\, and agencies. Dx3 is the one-stop-shop for marketers who want to learn how tech is changing their industries and how they can innovate to grow their businesses.
URL:https://virtualreality.to/event/dx3-2018/
LOCATION:Metro Toronto Convention Center\, 255 Front Street West\, Toronto\, Ontario\, M5V 2W6\, Canada
CATEGORIES:Events
END:VEVENT
END:VCALENDAR