BEGIN:VCALENDAR
VERSION:2.0
PRODID:-//VRTO - Virtual Reality, Toronto - ECPv6.0.11//NONSGML v1.0//EN
CALSCALE:GREGORIAN
METHOD:PUBLISH
X-WR-CALNAME:VRTO - Virtual Reality, Toronto
X-ORIGINAL-URL:https://virtualreality.to
X-WR-CALDESC:Events for VRTO - Virtual Reality, Toronto
REFRESH-INTERVAL;VALUE=DURATION:PT1H
X-Robots-Tag:noindex
X-PUBLISHED-TTL:PT1H
BEGIN:VTIMEZONE
TZID:America/Toronto
BEGIN:DAYLIGHT
TZOFFSETFROM:-0500
TZOFFSETTO:-0400
TZNAME:EDT
DTSTART:20170312T070000
END:DAYLIGHT
BEGIN:STANDARD
TZOFFSETFROM:-0400
TZOFFSETTO:-0500
TZNAME:EST
DTSTART:20171105T060000
END:STANDARD
END:VTIMEZONE
BEGIN:VEVENT
DTSTART;TZID=America/Toronto:20171118T083000
DTEND;TZID=America/Toronto:20171118T190000
DTSTAMP:20230325T221217
CREATED:20171109T040903Z
LAST-MODIFIED:20171109T040903Z
UID:896-1510993800-1511031600@virtualreality.to
SUMMARY:DemocracyXChange
DESCRIPTION:DemocracyXChange is about the practical campaign skills and tools individuals and startup teams need to connect and make change happen.
URL:https://virtualreality.to/event/democracyxchange/
LOCATION:George Vari Engineering and Computing Centre\, 245 Church Street\, Toronto\, Ontario\, M5B 1Z4\, Canada
CATEGORIES:Events
END:VEVENT
END:VCALENDAR