BEGIN:VCALENDAR
VERSION:2.0
PRODID:-//VRTO - Virtual Reality, Toronto - ECPv6.0.11//NONSGML v1.0//EN
CALSCALE:GREGORIAN
METHOD:PUBLISH
X-WR-CALNAME:VRTO - Virtual Reality, Toronto
X-ORIGINAL-URL:https://virtualreality.to
X-WR-CALDESC:Events for VRTO - Virtual Reality, Toronto
REFRESH-INTERVAL;VALUE=DURATION:PT1H
X-Robots-Tag:noindex
X-PUBLISHED-TTL:PT1H
BEGIN:VTIMEZONE
TZID:America/Toronto
BEGIN:DAYLIGHT
TZOFFSETFROM:-0500
TZOFFSETTO:-0400
TZNAME:EDT
DTSTART:20190310T070000
END:DAYLIGHT
BEGIN:STANDARD
TZOFFSETFROM:-0400
TZOFFSETTO:-0500
TZNAME:EST
DTSTART:20191103T060000
END:STANDARD
END:VTIMEZONE
BEGIN:VEVENT
DTSTART;VALUE=DATE:20190521
DTEND;VALUE=DATE:20190523
DTSTAMP:20230325T185105
CREATED:20190128T174256Z
LAST-MODIFIED:20190129T170035Z
UID:1321-1558396800-1558569599@virtualreality.to
SUMMARY:VRX Immersive Enterprise
DESCRIPTION:Join the world’s leading VR & AR execs from across industry at Immersive Enterprise 2019; focusing on the latest business applications for virtual reality\, augmented reality & immersive technology\, within construction\, retail\, architecture\, healthcare\, automotive\, tourism and many other global industries.  \nGet 15% off all tickets by entering the code VRTO15 when you register here: https://events.vr-intelligence.com/enterprise/
URL:https://virtualreality.to/event/vrx-immersive-enterprise/
LOCATION:Revere Hotel\, Boston\, United States
CATEGORIES:AR,Events,VR,Wearables
ATTACH;FMTTYPE=image/png:https://virtualreality.to/wp-content/uploads/2019/01/VRX_immersive_enterprise_fin-04.png
END:VEVENT
END:VCALENDAR