BEGIN:VCALENDAR
VERSION:2.0
PRODID:-//VRTO - Virtual Reality, Toronto - ECPv6.0.11//NONSGML v1.0//EN
CALSCALE:GREGORIAN
METHOD:PUBLISH
X-ORIGINAL-URL:https://virtualreality.to
X-WR-CALDESC:Events for VRTO - Virtual Reality, Toronto
REFRESH-INTERVAL;VALUE=DURATION:PT1H
X-Robots-Tag:noindex
X-PUBLISHED-TTL:PT1H
BEGIN:VTIMEZONE
TZID:America/Toronto
BEGIN:DAYLIGHT
TZOFFSETFROM:-0500
TZOFFSETTO:-0400
TZNAME:EDT
DTSTART:20190310T070000
END:DAYLIGHT
BEGIN:STANDARD
TZOFFSETFROM:-0400
TZOFFSETTO:-0500
TZNAME:EST
DTSTART:20191103T060000
END:STANDARD
END:VTIMEZONE
BEGIN:VEVENT
DTSTART;TZID=America/Toronto:20190108T080000
DTEND;TZID=America/Toronto:20190111T180000
DTSTAMP:20230325T193438
CREATED:20190103T094304Z
LAST-MODIFIED:20190103T094304Z
UID:1283-1546934400-1547229600@virtualreality.to
SUMMARY:Consumer Electronics Show (#CES2019) - Las Vegas
DESCRIPTION:CES is the world’s gathering place for all those who thrive on the business of consumer technologies. It has served as the proving ground for innovators and breakthrough technologies for 50 years — the global stage where next-generation innovations are introduced to the marketplace. \nOwned and produced by the Consumer Technology Association (CTA)\, it attracts the world’s business leaders and pioneering thinkers. Featuring over 1000 speakers and almost 200\,000 attendees!
URL:https://virtualreality.to/event/consumer-electronics-show-ces2019-las-vegas/
LOCATION:Las Vegas Convention Center\, 3150 Paradise Rd.\, Las Vegas\, CA\, 89109\, United States
CATEGORIES:AR,Consumer,Events,VR,Wearables
ATTACH;FMTTYPE=image/png:https://virtualreality.to/wp-content/uploads/2019/01/CES-2019.png
END:VEVENT
BEGIN:VEVENT
DTSTART;TZID=America/Toronto:20190108T170000
DTEND;TZID=America/Toronto:20190111T040000
DTSTAMP:20230325T193438
CREATED:20190106T213823Z
LAST-MODIFIED:20190106T213823Z
UID:1287-1546966800-1547179200@virtualreality.to
SUMMARY:VR Fest
DESCRIPTION:Season 5 of VR FEST® in Las Vegas presented by Planet 13 and Hakkasan Group featuring three days of top rated VR/AR/MR/XR programming from January 8th to 11th on the Las Vegas Strip.
URL:https://virtualreality.to/event/vr-fest/
ATTACH;FMTTYPE=image/jpeg:https://virtualreality.to/wp-content/uploads/2019/01/VR-fest.jpg
END:VEVENT
BEGIN:VEVENT
DTSTART;TZID=America/Toronto:20190116T190000
DTEND;TZID=America/Toronto:20190116T220000
DTSTAMP:20230325T193438
CREATED:20190103T080809Z
LAST-MODIFIED:20190103T080836Z
UID:1279-1547665200-1547676000@virtualreality.to
SUMMARY:VRTO Meetup - Pimax Canadian Debut + Special Talks January 2019
DESCRIPTION:VRTO proudly presents a special event\nin partnership with House of VR and the Canadian Film Centre/ideaboost  \nPIMAX’s\nExclusive Canadian Engagement \nFor complete details read our news story. \nRSVP via the VRTO Meetup Page. You must be registered to gain admission.
URL:https://virtualreality.to/event/vrto-meetup-pimax-canadian-debut-special-talks-january-2019/
LOCATION:House of VR\, 639 Queen Street West\, Toronto\, ON\, M5V 2B7\, Canada
CATEGORIES:Events,VR
ATTACH;FMTTYPE=image/png:https://virtualreality.to/wp-content/uploads/2018/12/PIMAX-Test-2-e1546155570674.png
END:VEVENT
END:VCALENDAR