BEGIN:VCALENDAR
VERSION:2.0
PRODID:-//VRTO - Virtual Reality, Toronto - ECPv6.0.11//NONSGML v1.0//EN
CALSCALE:GREGORIAN
METHOD:PUBLISH
X-WR-CALNAME:VRTO - Virtual Reality, Toronto
X-ORIGINAL-URL:https://virtualreality.to
X-WR-CALDESC:Events for VRTO - Virtual Reality, Toronto
REFRESH-INTERVAL;VALUE=DURATION:PT1H
X-Robots-Tag:noindex
X-PUBLISHED-TTL:PT1H
BEGIN:VTIMEZONE
TZID:America/Toronto
BEGIN:DAYLIGHT
TZOFFSETFROM:-0500
TZOFFSETTO:-0400
TZNAME:EDT
DTSTART:20180311T070000
END:DAYLIGHT
BEGIN:STANDARD
TZOFFSETFROM:-0400
TZOFFSETTO:-0500
TZNAME:EST
DTSTART:20181104T060000
END:STANDARD
END:VTIMEZONE
BEGIN:VEVENT
DTSTART;TZID=America/Toronto:20180508T180000
DTEND;TZID=America/Toronto:20180508T220000
DTSTAMP:20230325T205310
CREATED:20180419T100857Z
LAST-MODIFIED:20180419T100857Z
UID:971-1525802400-1525816800@virtualreality.to
SUMMARY:AWE Nite TO Launch and AR & Entertainment
DESCRIPTION:An evening dedicated to explore the AR opportunity and to celebrate the AR activity in the city of Toronto. \nThis event will specifically take a look at AR & entertainment including augmented reality’s impact on TV & Film\, music\, games and toys. Including a number of AR demos using headworn and mobile devices
URL:https://virtualreality.to/event/awe-nite-to-launch-and-ar-entertainment/
LOCATION:RBC Waterpark Place\, 88 Queens Quay W\, Toronto\, ON\, Canada
CATEGORIES:AR,Events
END:VEVENT
END:VCALENDAR