BEGIN:VCALENDAR
VERSION:2.0
PRODID:-//VRTO - Virtual Reality, Toronto - ECPv6.0.11//NONSGML v1.0//EN
CALSCALE:GREGORIAN
METHOD:PUBLISH
X-ORIGINAL-URL:https://virtualreality.to
X-WR-CALDESC:Events for VRTO - Virtual Reality, Toronto
REFRESH-INTERVAL;VALUE=DURATION:PT1H
X-Robots-Tag:noindex
X-PUBLISHED-TTL:PT1H
BEGIN:VTIMEZONE
TZID:America/Toronto
BEGIN:DAYLIGHT
TZOFFSETFROM:-0500
TZOFFSETTO:-0400
TZNAME:EDT
DTSTART:20160313T070000
END:DAYLIGHT
BEGIN:STANDARD
TZOFFSETFROM:-0400
TZOFFSETTO:-0500
TZNAME:EST
DTSTART:20161106T060000
END:STANDARD
BEGIN:DAYLIGHT
TZOFFSETFROM:-0500
TZOFFSETTO:-0400
TZNAME:EDT
DTSTART:20170312T070000
END:DAYLIGHT
BEGIN:STANDARD
TZOFFSETFROM:-0400
TZOFFSETTO:-0500
TZNAME:EST
DTSTART:20171105T060000
END:STANDARD
TZID:America/Los_Angeles
BEGIN:DAYLIGHT
TZOFFSETFROM:-0800
TZOFFSETTO:-0700
TZNAME:PDT
DTSTART:20160313T100000
END:DAYLIGHT
BEGIN:STANDARD
TZOFFSETFROM:-0700
TZOFFSETTO:-0800
TZNAME:PST
DTSTART:20161106T090000
END:STANDARD
BEGIN:DAYLIGHT
TZOFFSETFROM:-0800
TZOFFSETTO:-0700
TZNAME:PDT
DTSTART:20170312T100000
END:DAYLIGHT
BEGIN:STANDARD
TZOFFSETFROM:-0700
TZOFFSETTO:-0800
TZNAME:PST
DTSTART:20171105T090000
END:STANDARD
TZID:America/Los_Angeles
BEGIN:DAYLIGHT
TZOFFSETFROM:-0800
TZOFFSETTO:-0700
TZNAME:PDT
DTSTART:20160313T100000
END:DAYLIGHT
BEGIN:STANDARD
TZOFFSETFROM:-0700
TZOFFSETTO:-0800
TZNAME:PST
DTSTART:20161106T090000
END:STANDARD
END:VTIMEZONE
BEGIN:VEVENT
DTSTART;VALUE=DATE:20170614
DTEND;VALUE=DATE:20170617
DTSTAMP:20230325T131921
CREATED:20170223T011451Z
LAST-MODIFIED:20170223T013939Z
UID:575-1497398400-1497657599@virtualreality.to
SUMMARY:IdeaCity 2017
DESCRIPTION:Moses Znaimer’s Conference dedicated to ideas and creativity.
URL:https://virtualreality.to/event/ideacity-2017/
LOCATION:Koerner Hall\, 273 Bloor St W\, Toronto\, Ontario\, M5S 1V6\, Canada
CATEGORIES:Events
ATTACH;FMTTYPE=image/png:https://virtualreality.to/wp-content/uploads/2017/02/ideacity.png
END:VEVENT
BEGIN:VEVENT
DTSTART;TZID=America/Toronto:20170531T090000
DTEND;TZID=America/Toronto:20170602T170000
DTSTAMP:20230325T131921
CREATED:20170315T041136Z
LAST-MODIFIED:20170315T041136Z
UID:609-1496221200-1496422800@virtualreality.to
SUMMARY:AWE (Augmented World Expo) 2017
DESCRIPTION:AWE is the world’s largest conference and expo dedicated to AR (augmented reality) and VR (virtual reality). \nThe event takes place in Santa Clara\, California bringing together a mix of CEOs\, CTOs\, designers\, developers\, creative agencies\, futurists\, analysts\, investors\, and top press in a fantastic opportunity to learn\, inspire\, partner\, and experience first hand the most exciting industry of our times. \nAR and VR are bringing superpowers to the people and this year we are on a mission to highlight how to use these Superpowers to Change the World. This year’s conference and expo will showcase speakers\, startups and organizations who are using AR & VR to drive economic growth\, encourage empathy and collaboration\, democratize healthcare and education\, and promote sustainability in the world.
URL:https://virtualreality.to/event/awe-augmented-world-expo-2017/
LOCATION:Santa Clara Convention Center\, 5001 Great America Pkwy\, Santa Clara\, CA\, 95054\, United States
CATEGORIES:AR,Events,VR
END:VEVENT
BEGIN:VEVENT
DTSTART;TZID=America/Toronto:20170501T090000
DTEND;TZID=America/Toronto:20170502T180000
DTSTAMP:20230325T131921
CREATED:20170430T114630Z
LAST-MODIFIED:20170430T114630Z
UID:655-1493629200-1493748000@virtualreality.to
SUMMARY:Unity Vision VR/AR Summit 2017
DESCRIPTION:The Vision VR/AR Summit is an event for artists\, engineers\, programmers\, designers\, musicians\, directors\, producers\, hardware manufacturers and researchers. The content and networking are focused on furthering the knowledge base of anyone developing virtual and/or augmented reality content in Unity.
URL:https://virtualreality.to/event/unity-vision-vrar-summit-2017/
LOCATION:Loews Hollywood Hotel\, Los Angeles\, 90046\, United States
CATEGORIES:AR,Events,VR
END:VEVENT
BEGIN:VEVENT
DTSTART;VALUE=DATE:20170422
DTEND;VALUE=DATE:20170429
DTSTAMP:20230325T131921
CREATED:20170319T205454Z
LAST-MODIFIED:20170319T205454Z
UID:614-1492819200-1493423999@virtualreality.to
SUMMARY:NAB Show VR/AR Track - Las Vegas
DESCRIPTION:IMMERSIVE EXPERIENCES and The M.E.T. Effect℠ \nVirtual reality is bringing the world rich\, digital media. \nThe development of virtual reality technology has breathed life into all of our creative dreams. Content creators can guide a viewer through an immersive experience with nearly unlimited potential\, and transport the consumer to a place in this world or any other.  Virtual reality is unique from other forms of media in that the consumer’s attention is completely and solely focused on the experience\, leaving a lasting and powerful impression. Its applications are being applied to both business and pleasure experiences and is a significant part of the future in media and entertainment. \nJoin the Game Developers\, Network Executives\, Advertising Agencies\, Online Media Channels\, App Developers and professionals in the business of immersive experiences\, dream up new worlds and new applications for this rich digital media.
URL:https://virtualreality.to/event/nab-show-vrar-track-las-vegas/
LOCATION:Las Vegas Convention Center\, 3150 Paradise Rd.\, Las Vegas\, CA\, 89109\, United States
CATEGORIES:AR,Events,VR
ATTACH;FMTTYPE=image/png:https://virtualreality.to/wp-content/uploads/2017/03/17NSLV-WebNodes-Immersive.png
END:VEVENT
BEGIN:VEVENT
DTSTART;TZID=America/Toronto:20170414T100000
DTEND;TZID=America/Toronto:20170415T180000
DTSTAMP:20230325T131921
CREATED:20170315T030804Z
LAST-MODIFIED:20170315T030804Z
UID:598-1492164000-1492279200@virtualreality.to
SUMMARY:VRLA Expo 2017
DESCRIPTION:Try hundreds of new VR & AR experiences at the world’s largest immersive technology expo. Open your mind to the future of storytelling\, entertainment\, and much more!
URL:https://virtualreality.to/event/vrla-expo-2017/
LOCATION:Los Angeles Convention Centre\, 1201 S Figueroa St\, Los Angeles\, CA\, 90015\, United States
CATEGORIES:AR,Events,VR
ORGANIZER;CN="VRLA":MAILTO:contact@virtualrealityla.com
END:VEVENT
BEGIN:VEVENT
DTSTART;TZID=America/Toronto:20170328T180000
DTEND;TZID=America/Toronto:20170328T220000
DTSTAMP:20230325T131921
CREATED:20170314T023744Z
LAST-MODIFIED:20170314T023744Z
UID:592-1490724000-1490738400@virtualreality.to
SUMMARY:WOMEN & WEARABLES
DESCRIPTION:We Are Wearables and Electric Runway have teamed up to host “Women and Wearables” a night of celebration\, conversation\, and activism empowering women in wearable tech. This special edition of WWTO will touch on the opportunities & challenges for women in hardware\, the need for diversity in tech teams\, and the journey of the female founder. \nBeverages & food will be provided courtesy of Herscu & Goldsilver and Meta.
URL:https://virtualreality.to/event/women-wearables/
LOCATION:MaRS\, 101 College St\,\, Toronto\, ON\, Ontario\, Canada
CATEGORIES:Events
END:VEVENT
BEGIN:VEVENT
DTSTART;VALUE=DATE:20170324
DTEND;VALUE=DATE:20170403
DTSTAMP:20230325T131921
CREATED:20170223T005750Z
LAST-MODIFIED:20170223T005750Z
UID:571-1490313600-1491177599@virtualreality.to
SUMMARY:Toronto Storytelling Festival
DESCRIPTION:Founded in 1979\, the TORONTO STORYTELLING FESTIVAL has grown into one of the world’s biggest celebrations of the arts of voice and story. Over ten days of concerts\, storytalks\, and workshops\, the finest storytellers from Canada and around the world make Toronto the centre of the storytelling renaissance.
URL:https://virtualreality.to/event/toronto-storytelling-festival/
LOCATION:Toronto\, Ontario\, Various - see website for complete listing\, Toronto\, Canada
CATEGORIES:Events
ATTACH;FMTTYPE=image/jpeg:https://virtualreality.to/wp-content/uploads/2017/02/Toronto-Storytelling-Festival.jpg
END:VEVENT
BEGIN:VEVENT
DTSTART;TZID=America/Toronto:20170320T190000
DTEND;TZID=America/Toronto:20170320T220000
DTSTAMP:20230325T131921
CREATED:20170315T014736Z
LAST-MODIFIED:20170315T014736Z
UID:594-1490036400-1490047200@virtualreality.to
SUMMARY:OttawaVR Meetup
DESCRIPTION:Lessons Learned Shipping Thread Studio + VR Demos!\nAt 7:30 Jon Wade\, from Shopify’s VR/AR team\, will talk about the challenges and lessons learned in shipping Thread Studio\, Shopify’s first public VR application. \nOn top of supporting the OttawaVR scene\, your $10 entry fee secures you VR time in one of Colony’s 6 HTC Vive setups. Try out Thread Studio after the talk or sample other great available VR titles. \nIn order to schedule VR time for everyone\, spaces are limited to the first 50 members to sign up.
URL:https://virtualreality.to/event/ottawavr-meetup/
LOCATION:Colony VR\, 58 Beech Street\, Ottawa\, ON\, K1S 3J6\, Canada
CATEGORIES:Events,VR
END:VEVENT
BEGIN:VEVENT
DTSTART;TZID=America/Toronto:20170320T173000
DTEND;TZID=America/Toronto:20170320T203000
DTSTAMP:20230325T131921
CREATED:20170315T035410Z
LAST-MODIFIED:20170315T035410Z
UID:605-1490031000-1490041800@virtualreality.to
SUMMARY:Montreal Virtual Reality - Monthly Discussion & Brainstorm
DESCRIPTION:Present ourselves\, talk about the experiences we’ve played / developed\, brainstorm ideas and possibilities\, network and try demos
URL:https://virtualreality.to/event/montreal-virtual-reality-monthly-discussion-brainstorm/
LOCATION:Notman House\, 51 Sherbrooke West\, Montreal\, Quebec\, H2X 1X2\, Canada
CATEGORIES:Events,VR
END:VEVENT
BEGIN:VEVENT
DTSTART;TZID=America/Toronto:20170302T080000
DTEND;TZID=America/Toronto:20170302T130000
DTSTAMP:20230325T131921
CREATED:20170223T030054Z
LAST-MODIFIED:20170223T030054Z
UID:580-1488441600-1488459600@virtualreality.to
SUMMARY:iab Business of Digital
DESCRIPTION:Hear from the leading practitioners and proponents on how virtual reality\, augmented reality and mixed reality will be leveraged to engage consumers with immersive experiences.
URL:https://virtualreality.to/event/iab-business-digital/
LOCATION:SIRT @ Pinewood\, 225 Commissioners Street\, Stage 10\, Toronto\, ON\, M4M 0A1\, Canada
CATEGORIES:Events
ATTACH;FMTTYPE=image/png:https://virtualreality.to/wp-content/uploads/2017/02/BoD-AR-VR-Webstite-Header.png
END:VEVENT
BEGIN:VEVENT
DTSTART;TZID=America/Toronto:20170125T183000
DTEND;TZID=America/Toronto:20170125T220000
DTSTAMP:20230325T131921
CREATED:20170111T035752Z
LAST-MODIFIED:20170111T040150Z
UID:550-1485369000-1485381600@virtualreality.to
SUMMARY:WWTO - CES Recap\, Toronto
DESCRIPTION:We Are Wearables Toronto is back for its first event of 2017 with their annual tradition of tech journalists discussing wearable tech trends coming out of CES. Plus Toronto-based  InteraXon will be showing off its connected sunglasses\, Lowdown Focus\, in partnership with Smith. And Montreal’s Mighty Cast will be presenting its production ready Nex Band Evolution along with its partnership with Niantic Lab’s Ingress.  \nThis is a free event which takes place Jan 25 from 6:30-10PM at MaRS 101 College Street in Toronto. RSVP Now
URL:https://virtualreality.to/event/wwto-ces-recap-toronto/
LOCATION:MaRS\, 101 College St\,\, Toronto\, ON\, Ontario\, Canada
CATEGORIES:Events,VR
END:VEVENT
BEGIN:VEVENT
DTSTART;TZID=America/Toronto:20170119T080000
DTEND;TZID=America/Toronto:20170129T170000
DTSTAMP:20230325T131921
CREATED:20170111T035224Z
LAST-MODIFIED:20170111T035224Z
UID:548-1484812800-1485709200@virtualreality.to
SUMMARY:Sundance - New Frontier Showcase\, Park City\, Utah
DESCRIPTION:Sundance Institute has curated an in-depth vision of storytelling’s future for the 2017 edition of New Frontier at the Sundance Film Festival\, January 19-29 in Park City. The full slate — including storyworlds in Augmented Reality headsets\, projection-mapped acrobatics\, a VR beauty salon producing neuroscience data via the internet of things and a host of socialized\, interactive and immersively haptic VR story experiences.
URL:https://virtualreality.to/event/sundance-new-frontier-showcase-park-city-utah/
LOCATION:Ontario
CATEGORIES:Events,VR
END:VEVENT
BEGIN:VEVENT
DTSTART;TZID=America/Los_Angeles:20170115T130000
DTEND;TZID=America/Los_Angeles:20170115T170000
DTSTAMP:20230325T131921
CREATED:20170111T042103Z
LAST-MODIFIED:20170111T042103Z
UID:554-1484485200-1484499600@virtualreality.to
SUMMARY:HTC Vive Summit - Live Stream
DESCRIPTION:HTC is bringing us their first major Vive livestream headlined by some of the most popular esports personalities\, organized in partnership with VRScout and Team SoloMid. The event\, taking place on Sunday\, January 15th here at VRScout’s studios in Los Angeles\, will be streamed live to twitch.tv/htc. \nThroughout the show\, players will walk through some of the most exciting new Vive content and engage in unique challenges and competitions. Beyond providing viewers with a comprehensive look at the future of gaming\, the summit aims to present the Vive and its experiences as a new medium for inventive entertainment.
URL:https://virtualreality.to/event/htc-vive-summit-live-stream/
LOCATION:Ontario
CATEGORIES:Events,VR
END:VEVENT
BEGIN:VEVENT
DTSTART;VALUE=DATE:20161016
DTEND;VALUE=DATE:20161019
DTSTAMP:20230325T131921
CREATED:20160812T231338Z
LAST-MODIFIED:20160812T231338Z
UID:475-1476576000-1476835199@virtualreality.to
SUMMARY:Immersed 2016
DESCRIPTION:
URL:https://virtualreality.to/event/immersed-2016/
LOCATION:Ontario Science Centre\, Toronto\, ON\, Canada
CATEGORIES:AR,Events,VR
END:VEVENT
BEGIN:VEVENT
DTSTART;TZID=America/Toronto:20161005T110000
DTEND;TZID=America/Toronto:20161006T190000
DTSTAMP:20230325T131921
CREATED:20160812T230101Z
LAST-MODIFIED:20160812T230213Z
UID:471-1475665200-1475780400@virtualreality.to
SUMMARY:ProFusion 2016
DESCRIPTION:Each year\, ProFusion is a must-attend event\, ‘required-viewing’ for Canada’s imaging professionals. As trade shows go\, there’s nothing else like it in the country. Whether you’re a DOP\, photographer\, producer\, lighting director\, audio professional\, indie-shooter\, freelancer\, broadcaster\, educator\, ProFusion is for you.
URL:https://virtualreality.to/event/471/
LOCATION:Metro Toronto Convention Centre\, All B North Building\, Toronto\, ON\, Canada
CATEGORIES:Consumer,Events,Film,VR
END:VEVENT
BEGIN:VEVENT
DTSTART;TZID=America/Toronto:20161004T183000
DTEND;TZID=America/Toronto:20161004T220000
DTSTAMP:20230325T131921
CREATED:20160927T171247Z
LAST-MODIFIED:20160927T171801Z
UID:518-1475605800-1475618400@virtualreality.to
SUMMARY:WWTO AR/VR
DESCRIPTION:WORLD EXCLUSIVE: Sulon Technologies will be demoing its revolutionary untethered AR/VR device\, Sulon Q\, for the very first time ever at WWTO. \nAlso featuring immersive demos using HoloLens\, HTC Vive\, Oculus Rift\, Gear VR and Google Cardboard with participating organizations including: \nSecret Location\, Sulon Technologies\, Globacore\, Quantum Capture\, Proto3000\, Super Ventures\, Modiface\, CFC/ideaBOOST\, Eye-LIVE Media\, MiaoMiao Games\, itsme3D\, Lucky VR\, FIVARS Festival\, VR Society\, Ryerson University\, OMERS Ventures and more. \nBeer from Lake Wilcox Brewery\, Wine and Pizza from Pizza Pizza will be served courtesy of Herscu & Goldsilver. \nDoors open at 6:30PM. Presentations start at 6:45PM. Demo area is open 6:30-10PM.
URL:https://virtualreality.to/event/wwto-arvr/
LOCATION:MaRS\, 101 College St\,\, Toronto\, ON\, Ontario\, Canada
CATEGORIES:AR,Events,VR
END:VEVENT
BEGIN:VEVENT
DTSTART;TZID=America/Toronto:20161003T080000
DTEND;TZID=America/Toronto:20161004T170000
DTSTAMP:20230325T131921
CREATED:20160509T102436Z
LAST-MODIFIED:20160509T103112Z
UID:397-1475481600-1475600400@virtualreality.to
SUMMARY:FITC: Web Unleashed 2016
DESCRIPTION:If you’re a front-end developer\, or aspire to be one\, then you know how quickly the space changes. By attending Web Unleashed\, you will get up-to-date on the skills to push you ahead in your career. \nIf you’re a front-end developer\, or aspire to be one\, then you know how quickly the space changes. By attending Web Unleashed\, you will get up-to-date on the skills to push you ahead in your career. You’ll also have the opportunity to network and share ideas with like-minded professionals.\nJoin us at Web Unleashed for:\n• Two full days with four tracks to choose from each day\n• Over 50 presentations\n• Opportunities to network and connect
URL:https://virtualreality.to/event/fitc-web-unleashed-2016/
LOCATION:Metro Toronto Convention Center\, 255 Front Street West\, Toronto\, Ontario\, M5V 2W6\, Canada
CATEGORIES:AR,Consumer,Events,VR
END:VEVENT
BEGIN:VEVENT
DTSTART;TZID=America/Toronto:20160928T173500
DTEND;TZID=America/Toronto:20160929T160000
DTSTAMP:20230325T131921
CREATED:20160927T172622Z
LAST-MODIFIED:20160927T172622Z
UID:520-1475084100-1475164800@virtualreality.to
SUMMARY:IdeaBoost | Enterprising Culture
DESCRIPTION:ABOUT THE EVENT \nA binational and cross-sector event involving debates\, keynotes\, and pitching sessions\, the Franco-Canadian Cultural and Creative Industry Forum (“Enterprising Culture”) will be a field for reflection and exploring the economic dimension of culture. Enterprising Culture aims to be a place for concrete proposals\, unique networking opportunities for startups coming from France and Canada\, and a place to learn about key trends in these innovative markets. High-level Canadian and French experts and influencers from the fields of culture\, innovation and economy will have the opportunity to meet and discuss issues related to creative industries and cultural enterprises. \nBy invite-only.
URL:https://virtualreality.to/event/ideaboost-enterprising-culture/
LOCATION:CORUS QUAY ATRIUM\, 25 Dockside Drive\, Toronto\, Ontario\, Canada
CATEGORIES:Events
END:VEVENT
BEGIN:VEVENT
DTSTART;VALUE=DATE:20160916
DTEND;VALUE=DATE:20160919
DTSTAMP:20230325T131921
CREATED:20160708T203731Z
LAST-MODIFIED:20160708T203756Z
UID:450-1473984000-1474243199@virtualreality.to
SUMMARY:FIVARS 2016
DESCRIPTION:The official 2016 Festival of Virtual & Augmented Reality Stories lands in its native Toronto\, Canada to showcase 20 more of the worlds finest immersive technology-driven stories.
URL:https://virtualreality.to/event/fivars-2016/
LOCATION:Ontario
CATEGORIES:AR,Events,VR
END:VEVENT
BEGIN:VEVENT
DTSTART;VALUE=DATE:20160908
DTEND;VALUE=DATE:20160919
DTSTAMP:20230325T131921
CREATED:20160509T103512Z
LAST-MODIFIED:20160509T113201Z
UID:399-1473292800-1474243199@virtualreality.to
SUMMARY:TIFF (Toronto International Film Festival)
DESCRIPTION:The Toronto International Film Festival is a publicly attended film festival held each September in Toronto\, Ontario\, Canada.
URL:https://virtualreality.to/event/tiff-toronto-international-film-festival/
LOCATION:Unnamed Venue\, Ontario\, Canada
CATEGORIES:Events,Film
END:VEVENT
BEGIN:VEVENT
DTSTART;VALUE=DATE:20160820
DTEND;VALUE=DATE:20160821
DTSTAMP:20230325T131921
CREATED:20160812T223118Z
LAST-MODIFIED:20160812T223118Z
UID:465-1471651200-1471737599@virtualreality.to
SUMMARY:FIVARS Preview at Camp Wavelength
DESCRIPTION:FIVARS — the Festival of International Virtual & Augmented Reality Stories\, Toronto’s original VR stories festival — returns to Camp Wavelength for its second year\, where you can see a special preview of carefully selected groundbreaking Canadian premieres in 360 degrees from around the world. fivars.net\, Twitter/IG @FIVARStories
URL:https://virtualreality.to/event/fivars-preview-camp-wavelength/
LOCATION:Toronto Island\, Artscape Gibraltar Point\, Toronto\, ON\, Canada
CATEGORIES:Events,VR
END:VEVENT
BEGIN:VEVENT
DTSTART;VALUE=DATE:20160819
DTEND;VALUE=DATE:20160822
DTSTAMP:20230325T131921
CREATED:20160812T223857Z
LAST-MODIFIED:20160812T223857Z
UID:468-1471564800-1471823999@virtualreality.to
SUMMARY:CNE Innovation Garage
DESCRIPTION:An exciting new showcase for the latest & greatest consumer products complete with a Pitch Competition and an Innovation Playground where CNE visitors can interact with inventors and their innovations!  \nVRTO Director Keram Malicki-Sanchez will appear on a panel about Virtual Reality moderated by the Canadian Film Centre’s Ana Serrano Sunday August 21st at 3pm.
URL:https://virtualreality.to/event/cne-innovation-garage/
LOCATION:Exhibition Place\, 210 Princes' Blvd\, Toronto\, ON\, M6K 3C3\, Canada
CATEGORIES:Events,VR
END:VEVENT
BEGIN:VEVENT
DTSTART;TZID=America/Toronto:20160625T190000
DTEND;TZID=America/Toronto:20160627T180000
DTSTAMP:20230325T131921
CREATED:20160509T100438Z
LAST-MODIFIED:20160509T101059Z
UID:395-1466881200-1467050400@virtualreality.to
SUMMARY:VRTO Virtual & Augmented Reality World Conference & Expo 2016
DESCRIPTION:A unique\, international exhibition and professional conference exploring arts\, culture and science through immersive technologies. \nThis event is has a 13+ minimum age requirement \nWhere it’s happening: \n50 Carlton St. (formerly known as Maple Leaf Gardens) – 2nd Floor (Map)\n(Exhibition Hall\, FIVARS & Hackers’s Guide to the Metaverse\, Opening Night Reception)  \nHoliday Inn Toronto Downtown Centre (Map)\n(Professional Conference and Intensive Training Rooms) \nThere is also an Industry and Media-only preview night on Saturday June 25th from 7-10pm.\nSuper Pass holders will have access to this closed event.
URL:https://virtualreality.to/event/vrto-virtual-augmented-reality-world-conference-expo-2016/
LOCATION:Mattamy Athletic Centre\, 50 Carlton St.\, Toronto\, Ontario\, M5B 1J2\, Canada
CATEGORIES:AR,Events,VR
END:VEVENT
BEGIN:VEVENT
DTSTART;VALUE=DATE:20160602
DTEND;VALUE=DATE:20160606
DTSTAMP:20230325T131921
CREATED:20160310T025526Z
LAST-MODIFIED:20160310T030514Z
UID:348-1464825600-1465171199@virtualreality.to
SUMMARY:Cine Gear Expo 2016
DESCRIPTION:Cine Gear Expo 2016 is the premier annual event for professionals engaged in the technology\, entertainment and media industry. The show lasts four days in Los Angeles this June in Hollywood\, California. \nCine Gear features more than 300+ exhibits\, new product and service introductions\, 30+ complimentary seminars led by industry leaders\, master classes\, film competition\, awards ceremony\, special screenings in state of the art theaters and ample opportunity to network with peers within a studio environment.  \nDates: June 2nd – 5th\, 2016. \nJune 2 — Film Series Competition Screenings\, Pre-Conference Sessions\nJune 3-4 — Exhibits\, Premier Seminars\, Exclusive Screenings\, Awards Presentations\, Special Events\nJune 5 — Master Classes
URL:https://virtualreality.to/event/cine-gear-expo-2016-jun-2-5-los-angeles/
LOCATION:The Studios at Paramount\, 5555 Melrose Ave.\, Los Angeles\, CA\, 90038\, United States
CATEGORIES:AR,Consumer,Film,VR
END:VEVENT
BEGIN:VEVENT
DTSTART;TZID=America/Los_Angeles:20160503T080000
DTEND;TZID=America/Los_Angeles:20160506T170000
DTSTAMP:20230325T131921
CREATED:20160427T080519Z
LAST-MODIFIED:20160427T083518Z
UID:388-1462262400-1462554000@virtualreality.to
SUMMARY:Digital Hollywood (Spring)
DESCRIPTION:Digital Hollywood Presents\nVirtual & Augmented\nReality Summit
URL:https://virtualreality.to/event/digital-hollywood-spring/
LOCATION:The Skirball Cultural Center\, Los Angeles\, CA\, United States
CATEGORIES:AR,Events,VR
END:VEVENT
BEGIN:VEVENT
DTSTART;TZID=America/Toronto:20160428T080000
DTEND;TZID=America/Toronto:20160508T170000
DTSTAMP:20230325T131921
CREATED:20160427T082115Z
LAST-MODIFIED:20160427T082115Z
UID:392-1461830400-1462726800@virtualreality.to
SUMMARY:HotDocs Festival
DESCRIPTION:Hot Docs\, North America’s largest documentary festival\, offers an outstanding selection of over 200 films from Canada and around the world to Toronto audiences of more than 200\,000.
URL:https://virtualreality.to/event/hotdocs-festival/
LOCATION:Unnamed Venue\, Ontario\, Canada
CATEGORIES:Events,Film,VR
END:VEVENT
BEGIN:VEVENT
DTSTART;VALUE=DATE:20160416
DTEND;VALUE=DATE:20160422
DTSTAMP:20230325T131921
CREATED:20160310T031026Z
LAST-MODIFIED:20160310T031447Z
UID:351-1460764800-1461283199@virtualreality.to
SUMMARY:NAB Show 2016
DESCRIPTION:The media and entertainment industry has become unleashed. Dynamic innovation and cutting-edge technologies are shattering the boundaries of content and opening up limitless opportunities. NAB Show® is the only place to break free from conventional thinking and open your mind. \nAttendees representing every sector of the industry including Broadcast\, Digital Media\, Film\, Entertainment\, Telecom\, Post-Production\, Academia\, Houses of Worship\, Advertising\, Military\, Government\, Retail\, Security\, Sports\, Live Events\, Online Video\, IT\, Virtual and Augmented Reality and more converge in Las Vegas for six days to embrace the immersive experiences reshaping the new reality of media. Explore the Exhibitor Communities \nInspiring and innovative attractions served up in 2016 include the new Virtual and Augmented Reality Pavilion\, showcasing this new medium and how it impacts all aspects of the industry\, Connected Media|IP\, focusing on the consumer experience; the Aerial Robotics and Drone Pavilion\, featuring a fully enclosed “flying cage” for demonstrations; SPROCKIT\, where market-ready startups present their new ideas; StudioXperience\, a live studio using all the latest tools; and so much more. Experience that pivotal moment when a new technology\, business model or partnership sparks awareness and you realize…
URL:https://virtualreality.to/event/nab-show-2016/
LOCATION:Las Vegas Convention Center\, 3150 Paradise Rd.\, Las Vegas\, CA\, 89109\, United States
CATEGORIES:AR,Consumer,Events,Film,VR
END:VEVENT
BEGIN:VEVENT
DTSTART;VALUE=DATE:20160311
DTEND;VALUE=DATE:20160321
DTSTAMP:20230325T131921
CREATED:20160310T032035Z
LAST-MODIFIED:20160310T032219Z
UID:358-1457654400-1458518399@virtualreality.to
SUMMARY:SXSW 2016
DESCRIPTION:The South by Southwest® (SXSW®) Conferences & Festivals offer the unique convergence of original music\, independent films\, and emerging technologies. Fostering creative and professional growth alike\, SXSW® is the premier destination for discovery. \nYear after year\, the event is a launching pad for new creative content. New media presentations\, music showcases and film screenings provide buzz-generating exposure for creators and compelling entertainment for audiences. Conference panel discussions present a forum for learning\, business activity thrives at the Trade Shows and global networking opportunities abound. Intellectual and creative intermingling among industry leaders continues to spark new ideas and carve the path for the future of each ever-evolving field\, long after the events’ conclusion.
URL:https://virtualreality.to/event/sxsw-2016/
LOCATION:Unnamed Venue\, Austin\, TX\, United States
CATEGORIES:AR,Events,Music,VR
END:VEVENT
END:VCALENDAR