BEGIN:VCALENDAR
VERSION:2.0
PRODID:-//VRTO - Virtual Reality, Toronto - ECPv6.0.11//NONSGML v1.0//EN
CALSCALE:GREGORIAN
METHOD:PUBLISH
X-ORIGINAL-URL:https://virtualreality.to
X-WR-CALDESC:Events for VRTO - Virtual Reality, Toronto
REFRESH-INTERVAL;VALUE=DURATION:PT1H
X-Robots-Tag:noindex
X-PUBLISHED-TTL:PT1H
BEGIN:VTIMEZONE
TZID:America/Toronto
BEGIN:DAYLIGHT
TZOFFSETFROM:-0500
TZOFFSETTO:-0400
TZNAME:EDT
DTSTART:20200308T070000
END:DAYLIGHT
BEGIN:STANDARD
TZOFFSETFROM:-0400
TZOFFSETTO:-0500
TZNAME:EST
DTSTART:20201101T060000
END:STANDARD
END:VTIMEZONE
BEGIN:VEVENT
DTSTART;TZID=America/Toronto:20200606T100000
DTEND;TZID=America/Toronto:20200608T190000
DTSTAMP:20230325T165707
CREATED:20191105T105737Z
LAST-MODIFIED:20191105T105737Z
UID:1461-1591437600-1591642800@virtualreality.to
SUMMARY:VRTO 2020
DESCRIPTION:Canada’s longest running premiere summit dedicated to the immersive arts is back for its 5th year!
URL:https://virtualreality.to/event/vrto-2020/
LOCATION:Toronto Media Arts Centre\, 32 Lisgar St.\, Toronto\, Ontario\, Canada
CATEGORIES:AR,Audio,Events,VR,Wearables
ATTACH;FMTTYPE=image/jpeg:https://virtualreality.to/wp-content/uploads/2019/11/vrto-2020-banner.jpg
END:VEVENT
END:VCALENDAR