BEGIN:VCALENDAR
VERSION:2.0
PRODID:-//VRTO - Virtual Reality, Toronto - ECPv6.0.11//NONSGML v1.0//EN
CALSCALE:GREGORIAN
METHOD:PUBLISH
X-WR-CALNAME:VRTO - Virtual Reality, Toronto
X-ORIGINAL-URL:https://virtualreality.to
X-WR-CALDESC:Events for VRTO - Virtual Reality, Toronto
REFRESH-INTERVAL;VALUE=DURATION:PT1H
X-Robots-Tag:noindex
X-PUBLISHED-TTL:PT1H
BEGIN:VTIMEZONE
TZID:America/Toronto
BEGIN:DAYLIGHT
TZOFFSETFROM:-0500
TZOFFSETTO:-0400
TZNAME:EDT
DTSTART:20190310T070000
END:DAYLIGHT
BEGIN:STANDARD
TZOFFSETFROM:-0400
TZOFFSETTO:-0500
TZNAME:EST
DTSTART:20191103T060000
END:STANDARD
END:VTIMEZONE
BEGIN:VEVENT
DTSTART;TZID=America/Toronto:20190306T093000
DTEND;TZID=America/Toronto:20190306T170000
DTSTAMP:20230325T193216
CREATED:20190301T153826Z
LAST-MODIFIED:20190301T154241Z
UID:1333-1551864600-1551891600@virtualreality.to
SUMMARY:Opportunities in Immersive Storytelling: SIRT VR/AR Industry Event
DESCRIPTION:Note: This is a private event and you will need an access code to proceed. Contact VRTO via the contact page for a code\, if available. \nThe SIRT Centre\, located at Pinewood Toronto Studios\, is a unique innovation sound stage facility that has been serving Ontario’s film\, television\, gaming and interactive media sectors for over six years. Recognized provincially and nationally for its focus on applied research and commercialization of new products and processes\, SIRT’s facilities and expertise provide the basis for a range of activities including research\, prototype development\, consulting\, production and evaluation of demonstration content\, and training. \nVRTO Director of Communications – Stephanie Greenall – will join a panel top discuss the Toronto VR/Ar ecosystem.
URL:https://virtualreality.to/event/opportunities-in-immersive-storytelling-sirt-vr-ar-industry-event/
LOCATION:SIRT @ Pinewood\, 225 Commissioners Street\, Stage 10\, Toronto\, ON\, M4M 0A1\, Canada
CATEGORIES:Events,VR
ATTACH;FMTTYPE=image/jpeg:https://virtualreality.to/wp-content/uploads/2019/03/https___cdn.evbuc_.com_images_54171892_200475582056_1_original.jpg
END:VEVENT
END:VCALENDAR