BEGIN:VCALENDAR
VERSION:2.0
PRODID:-//VRTO - Virtual Reality, Toronto - ECPv6.0.11//NONSGML v1.0//EN
CALSCALE:GREGORIAN
METHOD:PUBLISH
X-ORIGINAL-URL:https://virtualreality.to
X-WR-CALDESC:Events for VRTO - Virtual Reality, Toronto
REFRESH-INTERVAL;VALUE=DURATION:PT1H
X-Robots-Tag:noindex
X-PUBLISHED-TTL:PT1H
BEGIN:VTIMEZONE
TZID:America/Toronto
BEGIN:DAYLIGHT
TZOFFSETFROM:-0500
TZOFFSETTO:-0400
TZNAME:EDT
DTSTART:20180311T070000
END:DAYLIGHT
BEGIN:STANDARD
TZOFFSETFROM:-0400
TZOFFSETTO:-0500
TZNAME:EST
DTSTART:20181104T060000
END:STANDARD
END:VTIMEZONE
BEGIN:VEVENT
DTSTART;TZID=America/Toronto:20180922T200000
DTEND;TZID=America/Toronto:20180922T233000
DTSTAMP:20230325T124125
CREATED:20180825T020357Z
LAST-MODIFIED:20180825T020357Z
UID:1231-1537646400-1537659000@virtualreality.to
SUMMARY:Hand Eye Society Ball 2018
DESCRIPTION:
URL:https://virtualreality.to/event/hand-eye-society-ball-2018/
LOCATION:918 Bathurst Centre for Culture\, Arts\, Media and Education\, 918 Bathurst St\, Toronto\, Ontario\, Canada
CATEGORIES:Events,Games
END:VEVENT
END:VCALENDAR