BEGIN:VCALENDAR
VERSION:2.0
PRODID:-//VRTO - Virtual Reality, Toronto - ECPv6.0.11//NONSGML v1.0//EN
CALSCALE:GREGORIAN
METHOD:PUBLISH
X-WR-CALNAME:VRTO - Virtual Reality, Toronto
X-ORIGINAL-URL:https://virtualreality.to
X-WR-CALDESC:Events for VRTO - Virtual Reality, Toronto
REFRESH-INTERVAL;VALUE=DURATION:PT1H
X-Robots-Tag:noindex
X-PUBLISHED-TTL:PT1H
BEGIN:VTIMEZONE
TZID:America/Toronto
BEGIN:DAYLIGHT
TZOFFSETFROM:-0500
TZOFFSETTO:-0400
TZNAME:EDT
DTSTART:20180311T070000
END:DAYLIGHT
BEGIN:STANDARD
TZOFFSETFROM:-0400
TZOFFSETTO:-0500
TZNAME:EST
DTSTART:20181104T060000
END:STANDARD
END:VTIMEZONE
BEGIN:VEVENT
DTSTART;TZID=America/Toronto:20180914T080000
DTEND;TZID=America/Toronto:20180916T170000
DTSTAMP:20230325T203049
CREATED:20180825T021050Z
LAST-MODIFIED:20180825T021050Z
UID:1235-1536912000-1537117200@virtualreality.to
SUMMARY:FIVARS 2018 - Festival of International Virtual & Augmented Reality Stories
DESCRIPTION:
URL:https://virtualreality.to/event/fivars-2018-festival-of-international-virtual-augmented-reality-stories/
LOCATION:The Matador Ballroom\, 466 Dovercourt Rd\, Toronto\, Ontario\, M6H 2W4\, Canada
CATEGORIES:AR,Events,VR
END:VEVENT
END:VCALENDAR