BEGIN:VCALENDAR
VERSION:2.0
PRODID:-//VRTO - Virtual Reality, Toronto - ECPv6.0.11//NONSGML v1.0//EN
CALSCALE:GREGORIAN
METHOD:PUBLISH
X-ORIGINAL-URL:https://virtualreality.to
X-WR-CALDESC:Events for VRTO - Virtual Reality, Toronto
REFRESH-INTERVAL;VALUE=DURATION:PT1H
X-Robots-Tag:noindex
X-PUBLISHED-TTL:PT1H
BEGIN:VTIMEZONE
TZID:America/Toronto
BEGIN:DAYLIGHT
TZOFFSETFROM:-0500
TZOFFSETTO:-0400
TZNAME:EDT
DTSTART:20180311T070000
END:DAYLIGHT
BEGIN:STANDARD
TZOFFSETFROM:-0400
TZOFFSETTO:-0500
TZNAME:EST
DTSTART:20181104T060000
END:STANDARD
END:VTIMEZONE
BEGIN:VEVENT
DTSTART;TZID=America/Toronto:20180307T081500
DTEND;TZID=America/Toronto:20180307T123000
DTSTAMP:20230325T213053
CREATED:20180219T233539Z
LAST-MODIFIED:20180219T233539Z
UID:945-1520410500-1520425800@virtualreality.to
SUMMARY:IAB Presents: Business of Digital: AV/VR
DESCRIPTION:Business of Digital: AR/VR The Brand Experience\nIn the year that both Apple and Google brought Augmented Reality content development to their devices and Sony ran TV advertising for PlayStation VR\, it was evident that AR and VR was more than a passing phase. Facebook announced a standalone VR headset Oculus GO and Microsoft expanded its Hololens system to enable a six pack of low-priced VR headsets. In the slipstream of sector confidence brands continued to explore the medium\, record results and measure experiences. Learn how brands are using AR and VR to create valuable consumer engagement and how this will impact your go-forward strategy and campaign activity.
URL:https://virtualreality.to/event/iab-presents-business-digital-av-vr/
LOCATION:SIRT @ Pinewood\, 225 Commissioners Street\, Stage 10\, Toronto\, ON\, M4M 0A1\, Canada
CATEGORIES:AR,Business,Events,VR
END:VEVENT
END:VCALENDAR