BEGIN:VCALENDAR
VERSION:2.0
PRODID:-//VRTO - Virtual Reality, Toronto - ECPv6.0.11//NONSGML v1.0//EN
CALSCALE:GREGORIAN
METHOD:PUBLISH
X-ORIGINAL-URL:https://virtualreality.to
X-WR-CALDESC:Events for VRTO - Virtual Reality, Toronto
REFRESH-INTERVAL;VALUE=DURATION:PT1H
X-Robots-Tag:noindex
X-PUBLISHED-TTL:PT1H
BEGIN:VTIMEZONE
TZID:America/Toronto
BEGIN:DAYLIGHT
TZOFFSETFROM:-0500
TZOFFSETTO:-0400
TZNAME:EDT
DTSTART:20170312T070000
END:DAYLIGHT
BEGIN:STANDARD
TZOFFSETFROM:-0400
TZOFFSETTO:-0500
TZNAME:EST
DTSTART:20171105T060000
END:STANDARD
END:VTIMEZONE
BEGIN:VEVENT
DTSTART;TZID=America/Toronto:20170915T100000
DTEND;TZID=America/Toronto:20170917T190000
DTSTAMP:20230325T223249
CREATED:20170822T090247Z
LAST-MODIFIED:20170822T090247Z
UID:712-1505469600-1505674800@virtualreality.to
SUMMARY:FIVARS 2017 Festival of International Virtual & Augmented Reality Stories
DESCRIPTION:Canada’s original critically-acclaimed International Festival of Virtual Reality & Augmented Reality Stories returns for its third year\, bigger and better than ever. \nFind out why Huffington Post called FIVARS “The Most Cutting-Edge Storytelling Festival in the World.” \nFIVARS showcases the gold standard in immersive stories that represent the spectrum from around the world\, carefully selected from hundreds of entries to showcase the possibilities\, approaches and innovations of this emergent entertainment\, information and engagement medium. \nThe 2017 Catalog features 30 carefully curated selections from over a dozen countries\, including many exclusives and world premieres from Brazil\, Canada\, China\, France\, Germany\, India\, Ireland\, Japan\, Netherlands\, South Korea\, United Kingdom\, USA exhibited on Gear VR\, HTC Vive and Oculus Rift. \nFilm enthusiasts\, families\, travelers\, adventurers\, philosophers\, activists\, and technologists will all find something to inspire\, motivate and experience. \n~~~~ \nThis year\, FIVARS will land at Toronto’s finest VR venue – House of VR at Queen and Bathurst to bring you the absolute pinnacle experience in VR showcases.
URL:https://virtualreality.to/event/fivars-2017-festival-international-virtual-augmented-reality-stories/
LOCATION:House of VR\, 639 Queen Street West\, Toronto\, ON\, M5V 2B7\, Canada
CATEGORIES:AR,Film,VR
END:VEVENT
END:VCALENDAR