BEGIN:VCALENDAR
VERSION:2.0
PRODID:-//VRTO - Virtual Reality, Toronto - ECPv6.0.11//NONSGML v1.0//EN
CALSCALE:GREGORIAN
METHOD:PUBLISH
X-WR-CALNAME:VRTO - Virtual Reality, Toronto
X-ORIGINAL-URL:https://virtualreality.to
X-WR-CALDESC:Events for VRTO - Virtual Reality, Toronto
REFRESH-INTERVAL;VALUE=DURATION:PT1H
X-Robots-Tag:noindex
X-PUBLISHED-TTL:PT1H
BEGIN:VTIMEZONE
TZID:America/Toronto
BEGIN:DAYLIGHT
TZOFFSETFROM:-0500
TZOFFSETTO:-0400
TZNAME:EDT
DTSTART:20220313T070000
END:DAYLIGHT
BEGIN:STANDARD
TZOFFSETFROM:-0400
TZOFFSETTO:-0500
TZNAME:EST
DTSTART:20221106T060000
END:STANDARD
END:VTIMEZONE
BEGIN:VEVENT
DTSTART;TZID=America/Toronto:20220720T100000
DTEND;TZID=America/Toronto:20220721T190000
DTSTAMP:20230325T115513
CREATED:20220602T064200Z
LAST-MODIFIED:20220602T064200Z
UID:1758-1658311200-1658430000@virtualreality.to
SUMMARY:VRTO 2022 World Conference & Expo - Live and In-Person
DESCRIPTION:
URL:https://virtualreality.to/event/vrto-2022-world-conference/
LOCATION:OCAD University\, 100 McCaul St\, Toronto\, Canada
CATEGORIES:Events
END:VEVENT
END:VCALENDAR