BEGIN:VCALENDAR
VERSION:2.0
PRODID:-//VRTO - Virtual Reality, Toronto - ECPv6.0.11//NONSGML v1.0//EN
CALSCALE:GREGORIAN
METHOD:PUBLISH
X-WR-CALNAME:VRTO - Virtual Reality, Toronto
X-ORIGINAL-URL:https://virtualreality.to
X-WR-CALDESC:Events for VRTO - Virtual Reality, Toronto
REFRESH-INTERVAL;VALUE=DURATION:PT1H
X-Robots-Tag:noindex
X-PUBLISHED-TTL:PT1H
BEGIN:VTIMEZONE
TZID:America/Toronto
BEGIN:DAYLIGHT
TZOFFSETFROM:-0500
TZOFFSETTO:-0400
TZNAME:EDT
DTSTART:20200308T070000
END:DAYLIGHT
BEGIN:STANDARD
TZOFFSETFROM:-0400
TZOFFSETTO:-0500
TZNAME:EST
DTSTART:20201101T060000
END:STANDARD
END:VTIMEZONE
BEGIN:VEVENT
DTSTART;VALUE=DATE:20200107
DTEND;VALUE=DATE:20200111
DTSTAMP:20230325T173726
CREATED:20200106T153715Z
LAST-MODIFIED:20200106T153715Z
UID:1507-1578355200-1578700799@virtualreality.to
SUMMARY:Dreamland XR at CES
DESCRIPTION:The inaugural DreamlandXR Music\, Technology and Esports Festival  takes place in Las Vegas January 7th to 10th during CES® at various locations on the Las Vegas Strip including OMNIA Nightclub at Caesars Palace Las Vegas\, Alexis Park All Suite Resort and Hakkasan Nightclub at MGM Grand Las Vegas. This three-day event is open to the public and will feature a diverse blend of EDM music\, immersive technology exhibits\, speaker panels\, networking mixers\, e-Sports tournaments\, and awards show.
URL:https://virtualreality.to/event/dreamland-xr-at-ces/
CATEGORIES:AR,Events,Games,Music,VR
ATTACH;FMTTYPE=image/jpeg:https://virtualreality.to/wp-content/uploads/2020/01/Dreamland-XR-Banner-HD.001.jpeg
END:VEVENT
END:VCALENDAR